View In:
ArcGIS JavaScript
ArcGIS Online Map Viewer
ArcGIS Earth
ArcGIS Pro
Service Description: The Relief basemap is compiled from the Department of Natural Resources, Mines and Energy datasets which are maintained and updated periodically. The basemap also incorporates additional data where appropriate. The service uses a tiled map cache generated for the following scales:
- 1:9028,
- 1:18,084,
- 1:36,112,
- 1:72,224,
- 1:144,448,
- 1:288,895,
- 1:577,791,
- 1:1,155,581,
- 1:2,311,162,
- 1:4,622,324,
- 1:9,244,649,
- 1:18,489,298, and
- 1:36,978,595.
The Queensland Government shall not be liable for technical or other errors or omissions. The user accepts all risks and responsibility for losses, damages, costs and other consequences resulting directly or indirectly from using this information.
Map Name: QldMapRelief
Legend
All Layers and Tables
Layers:
Description: The Relief basemap is compiled from the Department of Natural Resources, Mines and Energy datasets which are maintained and updated periodically. The basemap also incorporates additional data where appropriate. The service uses a tiled map cache generated for the following scales:
- 1:9028,
- 1:18,084,
- 1:36,112,
- 1:72,224,
- 1:144,448,
- 1:288,895,
- 1:577,791,
- 1:1,155,581,
- 1:2,311,162,
- 1:4,622,324,
- 1:9,244,649,
- 1:18,489,298, and
- 1:36,978,595.
The Queensland Government shall not be liable for technical or other errors or omissions. The user accepts all risks and responsibility for losses, damages, costs and other consequences resulting directly or indirectly from using this information.
Service Item Id: 3cde9138a2df47838ef20ff397d5c1de
Copyright Text: © State of Queensland (Department of Natural Resources and Mines, Manufacturing and Regional and Rural Development) 2025
Spatial Reference:
102100
(3857)
LatestVCSWkid(0)
Single Fused Map Cache: true
Tile Info:
- Height: 256.0
- Width: 256.0
- DPI: 96.0
-
Levels of Detail: 20
-
Level ID: 0
[ Start Tile, End Tile ]
- Resolution: 156543.03392800014
- Scale: 5.91657527591555E8
-
Level ID: 1
[ Start Tile, End Tile ]
- Resolution: 78271.51696399994
- Scale: 2.95828763795777E8
-
Level ID: 2
[ Start Tile, End Tile ]
- Resolution: 39135.75848200009
- Scale: 1.47914381897889E8
-
Level ID: 3
[ Start Tile, End Tile ]
- Resolution: 19567.87924099992
- Scale: 7.3957190948944E7
-
Level ID: 4
[ Start Tile, End Tile ]
- Resolution: 9783.93962049996
- Scale: 3.6978595474472E7
-
Level ID: 5
[ Start Tile, End Tile ]
- Resolution: 4891.96981024998
- Scale: 1.8489297737236E7
- Format: PNG32
- Compression Quality: 0.0
- Origin: X: -2.0037508342787E7
Y: 2.0037508342787E7
- Spatial Reference: 102100
(3857)
LatestVCSWkid(0)
Storage Info:
- Storage Format: esriMapCacheStorageModeCompactV2
- Packet Size: 128
Initial Extent:
XMin: 1.4789247921817956E7
YMin: -3110544.424551355
XMax: 1.7342856162768446E7
YMax: -1442382.719256112
Spatial Reference: 102100
(3857)
LatestVCSWkid(0)
Full Extent:
XMin: 1.525077023867848E7
YMin: -3439440.0607312643
XMax: 1.8145076999303594E7
YMax: -1006021.0627551368
Spatial Reference: 102100
(3857)
LatestVCSWkid(0)
Units: esriMeters
Supported Image Format Types: PNG32,PNG24,PNG,JPG,DIB,TIFF,EMF,PS,PDF,GIF,SVG,SVGZ,BMP
Document Info:
Title: QldMap Relief
Author:
Comments: The QldMap Relief service is based on the Department of Natural Resources and Mines, Manufacturing and Regional and Rural Development DEM, vegetation and waterbody datasets. Due mainly to the quality of the state wide DEM this services is limited to the following scales: 1:9028, 1:18056, 1:36,112, 1:72,224, 1:144,448, 1:288,895, 1:577,791, 1:1,155,581, 1:2,311,162, 1:4,622,324, 1:9,244,649, 1:18,489,298 and 1:36,978,595.
Subject: State wide cached basemap refreshed periodically to show updated data.
Category:
Keywords: QldMap Relief,basemap,map base
AntialiasingMode: None
TextAntialiasingMode: Force
Supports Dynamic Layers: false
MaxRecordCount: 2000
MaxSelectionCount: 2000
MaxImageHeight: 4320
MaxImageWidth: 7680
Supported Query Formats: JSON, geoJSON, PBF
Supports Query Data Elements: true
Min Scale: 3.6978595474472E7
Max Scale: 9027.977411
Supports Datum Transformation: true
Child Resources:
Info
Supported Operations:
Export Map
QueryLegends
EstimateExportTilesSize
ExportTiles
Return Updates
Generate KML