{
 "currentVersion": 11.5,
 "cimVersion": "3.5.0",
 "serviceDescription": "The Pastel basemap is compiled from the Department of Natural Resources and Mines, Manufacturing and Regional and Rural Development foundation datasets which are maintained and updated periodically. The basemap also incorporates additional data where appropriate. The service uses a tiled map cache updated biannually in May and November and generated for the following scales:\n\n- 1:1128,\n- 1:2257,\n- 1:4514,\n- 1:9028,\n- 1:18,084,\n- 1:36,112,\n- 1:72,224,\n- 1:144,448,\n- 1:288,895,\n- 1:577,791,\n- 1:1,155,581,\n- 1:2,311,162,\n- 1:4,622,324,\n- 1:9,244,649,\n- 1:18,489,298, and\n- 1:36,978,595.\n\nThe Queensland Government shall not be liable for technical or other errors or omissions. The user accepts all risks and responsibility for losses, damages, costs and other consequences resulting directly or indirectly from using this information.\n\nWhile every effort is made to show official place names gazetted under the Place Names Act 1994, this basemap may contain non-gazetted place names.\n\nThe representation on this basemap of any road or track is not evidence of Public Right of Way. Trails may not be open at time of visit, confirm locally prior to access. People using private roads do so at their own risk. Owners' permission should be obtained.\n\nNature Refuges are freehold land where the owner have entered into an agreement with the Queensland Government to commit to protect land with significant conservation value. Public access is not allowed, except with the permission of the owner.",
 "mapName": "QldBase_Pastel",
 "description": "The Pastel basemap is compiled from the Department of Natural Resources and Mines, Manufacturing and Regional and Rural Development foundation datasets which are maintained and updated periodically. The basemap also incorporates additional data where appropriate. The service uses a tiled map cache updated biannually in May and November and generated for the following scales:\n\n- 1:1128,\n- 1:2257,\n- 1:4514,\n- 1:9028,\n- 1:18,084,\n- 1:36,112,\n- 1:72,224,\n- 1:144,448,\n- 1:288,895,\n- 1:577,791,\n- 1:1,155,581,\n- 1:2,311,162,\n- 1:4,622,324,\n- 1:9,244,649,\n- 1:18,489,298, and\n- 1:36,978,595.\n\nThe Queensland Government shall not be liable for technical or other errors or omissions. The user accepts all risks and responsibility for losses, damages, costs and other consequences resulting directly or indirectly from using this information.\n\nWhile every effort is made to show official place names gazetted under the Place Names Act 1994, this basemap may contain non-gazetted place names.\n\nThe representation on this basemap of any road or track is not evidence of Public Right of Way. Trails may not be open at time of visit, confirm locally prior to access. People using private roads do so at their own risk. Owners' permission should be obtained.\n\nNature Refuges are freehold land where the owner have entered into an agreement with the Queensland Government to commit to protect land with significant conservation value. Public access is not allowed, except with the permission of the owner.",
 "copyrightText": "© State of Queensland (Department of Natural Resources and Mines, Manufacturing and Regional and Rural Development) 2025",
 "supportsDynamicLayers": false,
 "layers": [
  {
   "id": 1,
   "name": "QLD Basemap Pastel",
   "parentLayerId": -1,
   "defaultVisibility": false,
   "subLayerIds": null,
   "minScale": 0,
   "maxScale": 0,
   "type": "Feature Layer",
   "geometryType": "esriGeometryPolygon",
   "supportsDynamicLegends": true
  }
 ],
 "tables": [],
 "spatialReference": {
  "wkid": 102100,
  "latestWkid": 3857,
  "xyTolerance": 0.001,
  "zTolerance": 0.001,
  "mTolerance": 0.001,
  "falseX": -20037700,
  "falseY": -30241100,
  "xyUnits": 10000,
  "falseZ": -100000,
  "zUnits": 10000,
  "falseM": -100000,
  "mUnits": 10000
 },
 "singleFusedMapCache": true,
 "tileInfo": {
  "rows": 256,
  "cols": 256,
  "dpi": 96,
  "format": "PNG",
  "compressionQuality": 0,
  "origin": {
   "x": -2.0037508342787E7,
   "y": 2.0037508342787E7
  },
  "spatialReference": {
   "wkid": 102100,
   "latestWkid": 3857,
   "xyTolerance": 0.001,
   "zTolerance": 0.001,
   "mTolerance": 0.001,
   "falseX": -20037700,
   "falseY": -30241100,
   "xyUnits": 10000,
   "falseZ": -100000,
   "zUnits": 10000,
   "falseM": -100000,
   "mUnits": 10000
  },
  "lods": [
   {
    "level": 0,
    "resolution": 156543.03392800014,
    "scale": 5.91657527591555E8
   },
   {
    "level": 1,
    "resolution": 78271.51696399994,
    "scale": 2.95828763795777E8
   },
   {
    "level": 2,
    "resolution": 39135.75848200009,
    "scale": 1.47914381897889E8
   },
   {
    "level": 3,
    "resolution": 19567.87924099992,
    "scale": 7.3957190948944E7
   },
   {
    "level": 4,
    "resolution": 9783.93962049996,
    "scale": 3.6978595474472E7
   },
   {
    "level": 5,
    "resolution": 4891.96981024998,
    "scale": 1.8489297737236E7
   },
   {
    "level": 6,
    "resolution": 2445.98490512499,
    "scale": 9244648.868618
   },
   {
    "level": 7,
    "resolution": 1222.992452562495,
    "scale": 4622324.434309
   },
   {
    "level": 8,
    "resolution": 611.4962262813797,
    "scale": 2311162.217155
   },
   {
    "level": 9,
    "resolution": 305.74811314055756,
    "scale": 1155581.108577
   },
   {
    "level": 10,
    "resolution": 152.87405657041106,
    "scale": 577790.554289
   },
   {
    "level": 11,
    "resolution": 76.43702828507324,
    "scale": 288895.277144
   },
   {
    "level": 12,
    "resolution": 38.21851414253662,
    "scale": 144447.638572
   },
   {
    "level": 13,
    "resolution": 19.10925707126831,
    "scale": 72223.819286
   },
   {
    "level": 14,
    "resolution": 9.554628535634155,
    "scale": 36111.909643
   },
   {
    "level": 15,
    "resolution": 4.77731426794937,
    "scale": 18055.954822
   },
   {
    "level": 16,
    "resolution": 2.388657133974685,
    "scale": 9027.977411
   },
   {
    "level": 17,
    "resolution": 1.1943285668550503,
    "scale": 4513.988705
   },
   {
    "level": 18,
    "resolution": 0.5971642835598172,
    "scale": 2256.994353
   },
   {
    "level": 19,
    "resolution": 0.29858214164761665,
    "scale": 1128.497176
   },
   {
    "level": 20,
    "resolution": 0.14929107082380833,
    "scale": 564.248588
   },
   {
    "level": 21,
    "resolution": 0.07464553541190416,
    "scale": 282.124294
   },
   {
    "level": 22,
    "resolution": 0.03732276770595208,
    "scale": 141.062147
   },
   {
    "level": 23,
    "resolution": 0.01866138385297604,
    "scale": 70.5310735
   }
  ]
 },
 "storageInfo": {
  "storageFormat": "esriMapCacheStorageModeCompactV2",
  "packetSize": 128
 },
 "initialExtent": {
  "xmin": 1.5271488018004352E7,
  "ymin": -3163597.026856473,
  "xmax": 1.782509625895484E7,
  "ymax": -1495435.3215612299,
  "spatialReference": {
   "wkid": 102100,
   "latestWkid": 3857,
   "xyTolerance": 0.001,
   "zTolerance": 0.001,
   "mTolerance": 0.001,
   "falseX": -20037700,
   "falseY": -30241100,
   "xyUnits": 10000,
   "falseZ": -100000,
   "zUnits": 10000,
   "falseM": -100000,
   "mUnits": 10000
  }
 },
 "fullExtent": {
  "xmin": 1.525077023867848E7,
  "ymin": -3439440.0607312643,
  "xmax": 1.8145076999303594E7,
  "ymax": -1006021.0627551368,
  "spatialReference": {
   "wkid": 102100,
   "latestWkid": 3857,
   "xyTolerance": 0.001,
   "zTolerance": 0.001,
   "mTolerance": 0.001,
   "falseX": -20037700,
   "falseY": -30241100,
   "xyUnits": 10000,
   "falseZ": -100000,
   "zUnits": 10000,
   "falseM": -100000,
   "mUnits": 10000
  }
 },
 "datesInUnknownTimezone": false,
 "minScale": 3.6978595474472E7,
 "maxScale": 1128.497176,
 "units": "esriMeters",
 "supportedImageFormatTypes": "PNG32,PNG24,PNG,JPG,DIB,TIFF,EMF,PS,PDF,GIF,SVG,SVGZ,BMP",
 "documentInfo": {
  "Title": "Queensland Basemap Pastel",
  "Author": "",
  "Comments": "The QldBase_Pastel service is based on the Department of Natural Resources and Mines, Manufacturing and Regional and Rural Development foundation datasets which are maintained and updated periodically. The basemap also incorporates additional data where appropriate. The service uses a tiled map cache updated biannually in May and November and generated for the following scales: 1:1128, 1:2257, 1:4514, 1:9028, 1:18,084, 1:36,112, 1:72,224, 1:144,448, 1:288,895, 1:577,791, 1:1,155,581, 1:2,311,162, 1:4,622,324, 1:9,244,649, 1:18,489,298 and 1:36,978,595",
  "Subject": "State wide cached basemap refreshed biannually in May and November.",
  "Category": "",
  "Version": "2.9.0",
  "AntialiasingMode": "None",
  "TextAntialiasingMode": "Force",
  "Keywords": "queensland,pastel,basemap,map base"
 },
 "supportsQueryDomains": true,
 "capabilities": "Map",
 "supportedQueryFormats": "JSON, geoJSON, PBF",
 "exportTilesAllowed": true,
 "maxExportTilesCount": 100000,
 "referenceScale": 0.0,
 "datumTransformations": [
  {
   "geoTransforms": [
    {
     "wkid": 108060,
     "latestWkid": 8048,
     "transformForward": false,
     "name": "GDA_1994_To_GDA2020_1"
    },
    {
     "wkid": 1150,
     "latestWkid": 1150,
     "transformForward": true,
     "name": "GDA_1994_To_WGS_1984"
    }
   ]
  },
  {
   "geoTransforms": [
    {
     "wkid": 1150,
     "latestWkid": 1150,
     "transformForward": false,
     "name": "GDA_1994_To_WGS_1984"
    },
    {
     "wkid": 108060,
     "latestWkid": 8048,
     "transformForward": true,
     "name": "GDA_1994_To_GDA2020_1"
    }
   ]
  },
  {
   "geoTransforms": [
    {
     "wkid": 1150,
     "latestWkid": 1150,
     "transformForward": true,
     "name": "GDA_1994_To_WGS_1984"
    }
   ]
  },
  {
   "geoTransforms": [
    {
     "wkid": 1150,
     "latestWkid": 1150,
     "transformForward": false,
     "name": "GDA_1994_To_WGS_1984"
    }
   ]
  }
 ],
 "supportsDatumTransformation": true,
 "archivingInfo": {
  "supportsHistoricMoment": false
 },
 "supportsClipping": true,
 "supportsSpatialFilter": true,
 "supportsTimeRelation": true,
 "supportsQueryDataElements": true,
 "mapUnits": {
  "uwkid": 9001
 },
 "maxSelectionCount": 2000,
 "maxRecordCount": 2000,
 "maxImageHeight": 4320,
 "maxImageWidth": 7680,
 "supportedExtensions": "KmlServer, WMSServer",
 "serviceItemId": "5660a0a91ccd4f63915fab939af05038"
}
